BEGIN:VCALENDAR
VERSION:2.0
PRODID:-//Destiny&#039;s Door Global Ministries - ECPv6.15.20//NONSGML v1.0//EN
CALSCALE:GREGORIAN
METHOD:PUBLISH
X-WR-CALNAME:Destiny&#039;s Door Global Ministries
X-ORIGINAL-URL:https://destinysdoorglobalministries.com
X-WR-CALDESC:Events for Destiny&#039;s Door Global Ministries
REFRESH-INTERVAL;VALUE=DURATION:PT1H
X-Robots-Tag:noindex
X-PUBLISHED-TTL:PT1H
BEGIN:VTIMEZONE
TZID:America/New_York
BEGIN:DAYLIGHT
TZOFFSETFROM:-0500
TZOFFSETTO:-0400
TZNAME:EDT
DTSTART:20140309T070000
END:DAYLIGHT
BEGIN:STANDARD
TZOFFSETFROM:-0400
TZOFFSETTO:-0500
TZNAME:EST
DTSTART:20141102T060000
END:STANDARD
BEGIN:DAYLIGHT
TZOFFSETFROM:-0500
TZOFFSETTO:-0400
TZNAME:EDT
DTSTART:20150308T070000
END:DAYLIGHT
BEGIN:STANDARD
TZOFFSETFROM:-0400
TZOFFSETTO:-0500
TZNAME:EST
DTSTART:20151101T060000
END:STANDARD
BEGIN:DAYLIGHT
TZOFFSETFROM:-0500
TZOFFSETTO:-0400
TZNAME:EDT
DTSTART:20160313T070000
END:DAYLIGHT
BEGIN:STANDARD
TZOFFSETFROM:-0400
TZOFFSETTO:-0500
TZNAME:EST
DTSTART:20161106T060000
END:STANDARD
BEGIN:DAYLIGHT
TZOFFSETFROM:-0500
TZOFFSETTO:-0400
TZNAME:EDT
DTSTART:20170312T070000
END:DAYLIGHT
BEGIN:STANDARD
TZOFFSETFROM:-0400
TZOFFSETTO:-0500
TZNAME:EST
DTSTART:20171105T060000
END:STANDARD
END:VTIMEZONE
BEGIN:VEVENT
DTSTART;TZID=America/New_York:20160207T090000
DTEND;TZID=America/New_York:20160207T230000
DTSTAMP:20260423T151052
CREATED:20150812T182754Z
LAST-MODIFIED:20160202T182540Z
UID:865-1454835600-1454886000@destinysdoorglobalministries.com
SUMMARY:Destiny's Door Global Ministries Worship Assembly
DESCRIPTION:Sunday Morning Worship Service\nWe would love to greet you at one of our worship services. All are welcome. Come and worship the Lord with us. Sunday mornings from 9:00 am to 11:00 am . \nBut the hour cometh\, and now is\, when the true worshippers shall worship the Father in spirit and in truth: for the Father seeketh such to worship him. John4 :23 \nDestiny’s Door Global Ministries is founded on biblical principles; serving in the earth in the spirit of integrity and compassion. Through the grace and love of  our Father and the power of the Holy Spirit\, Destiny’s Door Global Ministries seeks to become a global beacon and voice\, to encourage empower and enlighten people locally and globally. We have the love and the passion to see people empowered and awakened to their God-ordained destiny. Through the hand of God and His righteous word\, bringing the hearts of man to the Father to repentance\, salvation\, freedom\, reformation\, restoration\, healing and deliverance. Destiny’s Door Global Ministries Worship Assembly\, a Ministry with the Agenda of the King.
URL:https://destinysdoorglobalministries.com/calendar/worship-church-prophetic-covering/
LOCATION:Destiny’s Door Global Ministries Worship Assembly\, 9010 #B Liberty Road\, Randallstown\, MD\, 21133\, United States
ATTACH;FMTTYPE=image/jpeg:https://destinysdoorglobalministries.com/wp-content/uploads/2015/08/Lamb-of-God.jpg
END:VEVENT
BEGIN:VEVENT
DTSTART;TZID=America/New_York:20160203T183000
DTEND;TZID=America/New_York:20160203T200000
DTSTAMP:20260423T151052
CREATED:20160202T193351Z
LAST-MODIFIED:20160202T194318Z
UID:1035-1454524200-1454529600@destinysdoorglobalministries.com
SUMMARY:Worship Praise Prayer and the Word
DESCRIPTION:  A  Paradigm Shift to Deliverance  \nTeaching on Understanding – The Spirit of Lethargy \nWednesday\, February 3\, 2016 6:30pm \n 
URL:https://destinysdoorglobalministries.com/calendar/propheti-bible-study-teach-sprit-lethargy/
LOCATION:MD
ATTACH;FMTTYPE=image/png:https://destinysdoorglobalministries.com/wp-content/uploads/2016/02/Deliverance-1.png
END:VEVENT
BEGIN:VEVENT
DTSTART;TZID=America/New_York:20160104T190000
DTEND;TZID=America/New_York:20160104T210000
DTSTAMP:20260423T151052
CREATED:20151230T201224Z
LAST-MODIFIED:20160128T151956Z
UID:995-1451934000-1451941200@destinysdoorglobalministries.com
SUMMARY:Salvation The Perfect Gift Tele-Conference
DESCRIPTION:Tele Conference: Monday January 4\, 2016 7:00pm (est) 6:00pm (cst). Salvation The Perfect Gift.That if thou shalt confess with thy mouth the Lord Jesus\, and shalt believe in thine Heart that God has raised him form the dead\, thou shalt be Saved. Romans10:9 \nJoin the Tele Conference as Prophet Jorah Kiah of Destiny’s Door Global Ministries and Prophet Suzy Brothers of Suzy Brothers Ministries\, minister on The Gift of Salvation. Register and receive the tele-conference number and access code. \n\n                \n                        \n                            Registration/Appointment\n                            \n                        \n                        Name* Number* Email* Request(s)*Class InformationMental Health & Wellness (Staff SCC-C\, LGPC & LCPC)MentorshipPastoral Advisement/Counseling  (Staff: Licensed & Ordained Pastors)Pastoral Leadership Training CoursesProphetic Counseling (Staff SCC-C\, LGPC & LCPc)TrainingOur Mental Health and Wellness staff include:\nCertified Spiritual Christian Counselors-(SCC-C)\nLicensed Graduate Professional Counselors-(LGPC)\nLicensed Clinical Professional Counselors-(LCPC)\nLicensed & Ordained Pastors\nLicensed & Affirmed Prophets\n\n\nComments\n          \n            \n            \n            \n            \n            \n            \n            \n            \n            \n        \n                        Δ
URL:https://destinysdoorglobalministries.com/calendar/salvation-the-perfect-gift-tele-conference/
LOCATION:Tele-Conference\, United States
ATTACH;FMTTYPE=image/jpeg:https://destinysdoorglobalministries.com/wp-content/uploads/2015/12/salvation-3.jpg
END:VEVENT
BEGIN:VEVENT
DTSTART;TZID=America/New_York:20151230T183000
DTEND;TZID=America/New_York:20151230T200000
DTSTAMP:20260423T151052
CREATED:20151230T201929Z
LAST-MODIFIED:20151230T201929Z
UID:997-1451500200-1451505600@destinysdoorglobalministries.com
SUMMARY:Encounter
DESCRIPTION:Encounter Worship Prayer Praise and the Word of God \nJoin Destiny’s Door Global Ministries Tonight  Wednesday\, December 30\,  2015 at 6:30 pm until 8:00 pm as we worship\, pray\, praise and minister the word of God.
URL:https://destinysdoorglobalministries.com/calendar/encounter-prohetic-prophesy/
LOCATION:Destiny’s Door Global Ministries Worship Assembly\, 9010 #B Liberty Road\, Randallstown\, MD\, 21133\, United States
ATTACH;FMTTYPE=image/jpeg:https://destinysdoorglobalministries.com/wp-content/uploads/2015/12/Encounter-2.jpg
END:VEVENT
BEGIN:VEVENT
DTSTART;TZID=America/New_York:20151219T140000
DTEND;TZID=America/New_York:20151219T180000
DTSTAMP:20260423T151052
CREATED:20151116T144225Z
LAST-MODIFIED:20151215T154101Z
UID:953-1450533600-1450548000@destinysdoorglobalministries.com
SUMMARY:2015 Jubilee Feast
DESCRIPTION:The Year of Celebration\nThis is the year of Jubilee and release.  No longer entangled in the bondage of oppression\, depression\, fear\, anger and the darkness of this world but released into the covenant promises of the Lord. Come and receive a prophetic word an impartation. Join us as we prophetically worship through dance and song. Enter into the promise of the restoration and rest of the Lord. \nEvery 50 years was to be a year of Jubilee throughout all the land.  The Jubilee year had huge economic\, social and family implications.  During the Jubilee\, slaves were to be set free.  The land was to be restored to its original owner\, and families were to be reunited.  The year of Jubilee would restore the families and free the land from the bondage of debt as all mortgages were canceled.  The purpose of this year was to break the oppression over the people. \nThe Jubilee would come every 50 years or a generation\, and it would put an end to financial oppression.  Slaves were set free and mortgages ended.  All bondage was broken and the people would be free to start fresh.  It was also a year of agricultural rest as there would be no farming during this year.  God promised to abundantly bless the crops and orchards\, and the people were to rest from their labor.  It was a year to focus on God and not farming\, money and social problems.  It was a time of restoration. \nThe object of the year of Jubilee was liberty and to break all oppression.  The Jubilee was a type or forerunner of what it would be under the reign of King Messiah.  The Jubilee was to set the stage for the coming of King Messiah as His reign would be one continual Jubilee.  All oppression would end under His rule.  Justice and truth would reign.  All financial bondage would end.  There would be peace and an abundance of crops.  There will be real liberty under the rule of the Messiah. \nWe look forward to you celebrating and rejoicing with us.  For tickets and additional information contact our Kingdom Events Coordinator by phone 855.687.3378 ext. 710 or you may email ddgmkec@gmail.com \n  \n\n                \n                        \n                            Event Registration\n                            \n                        \n                        Name* Phone* Best Email* Event(s) *Wisdom & Understanding Tele ConferenceOther - Please specify in comment section Hour of EmpowermentComment\n          \n            \n            \n            \n            \n            \n            \n            \n            \n            \n        \n                        Δ \n                        \n 
URL:https://destinysdoorglobalministries.com/calendar/2015-jubilee-feast-2/
LOCATION:Hidden Treasures Banquet Hall\, 9002 Liberty Road\, Randallstowmn\, MD\, 21133\, United States
ATTACH;FMTTYPE=image/jpeg:https://destinysdoorglobalministries.com/wp-content/uploads/2015/11/Jubilee-Feast-Ticket.jpg
END:VEVENT
BEGIN:VEVENT
DTSTART;TZID=America/New_York:20151216T180000
DTEND;TZID=America/New_York:20151216T200000
DTSTAMP:20260423T151052
CREATED:20151128T031739Z
LAST-MODIFIED:20151214T151754Z
UID:974-1450288800-1450296000@destinysdoorglobalministries.com
SUMMARY:Intercession Ministry
DESCRIPTION:Season of the Intercessor \nThen I will set the key of the house of David on his shoulder\,\n When he opens no one will shut\, When he shuts no one will open. (Isaiah 22:22) \n“I also say to you that you are Peter\, and upon this rock I will build My church; and the gates of Hades will not overpower it. “I will give you the keys of the kingdom of heaven; and whatever you bind on earth shall have been bound in heaven\, and whatever you loose on earth shall have been loosed in heaven.” (Matthew 16:18-19) \nBut they who wait for the Lord shall renew their strength; they shall mount up with wings like eagles; they shall run and not be weary; they shall walk and not faint. \nJoin Destiny’s Door Global Ministries every Wednesday at 6:00 pm for kingly intercession.
URL:https://destinysdoorglobalministries.com/calendar/intercession-ministry/
LOCATION:Destiny’s Door Global Ministries Worship Assembly\, 9010 #B Liberty Road\, Randallstown\, MD\, 21133\, United States
ATTACH;FMTTYPE=image/png:https://destinysdoorglobalministries.com/wp-content/uploads/2015/11/Intercession-Ministry.png
END:VEVENT
BEGIN:VEVENT
DTSTART;TZID=America/New_York:20151209T180000
DTEND;TZID=America/New_York:20151209T190000
DTSTAMP:20260423T151052
CREATED:20151113T143703Z
LAST-MODIFIED:20151128T031018Z
UID:942-1449684000-1449687600@destinysdoorglobalministries.com
SUMMARY:The Call to Kingly Intercession
DESCRIPTION:Season of the Intercessor \nWith all prayer and petition pray at all times in the Spirit\, and with this in view\, be on the alert with all perseverance and petition for all the saints.. \nFor where two or three are gathered in my name\, there am I among them. \nContinue steadfastly in prayer\, being watchful in it with thanksgiving. At the same time\, pray also for us\, that God may open to us a door for the word\, to declare the mystery of Christ… \n….you also joining in helping us through your prayers\, so that thanks may be given by many persons on our behalf for the favor bestowed on us through the prayers of many. \nBut they who wait for the Lord shall renew their strength; they shall mount up with wings like eagles; they shall run and not be weary; they shall walk and not faint. \nJoin Destiny’s Door Global Ministries every Wednesday at 6:00 pm for kingly intercession.
URL:https://destinysdoorglobalministries.com/calendar/kingly-intercession-prayer/
LOCATION:Destiny’s Door Global Ministries Worship Assembly\, 9010 #B Liberty Road\, Randallstown\, MD\, 21133\, United States
ATTACH;FMTTYPE=image/jpeg:https://destinysdoorglobalministries.com/wp-content/uploads/2015/11/Kingly-Intercession.jpg
END:VEVENT
BEGIN:VEVENT
DTSTART;TZID=America/New_York:20151125T180000
DTEND;TZID=America/New_York:20151125T193000
DTSTAMP:20260423T151052
CREATED:20151113T142158Z
LAST-MODIFIED:20151113T142158Z
UID:937-1448474400-1448479800@destinysdoorglobalministries.com
SUMMARY:Corporate Prayer
DESCRIPTION:Again I say unto you\, That if two of you shall agree on earth as touching any thing that they shall ask\, it shall be done for them of my Father which is in heaven.  For where two or three are gathered together in my name\, there am I in the midst of them. \nIs any sick among you? let him call for the elders of the church; and let them pray over him\, anointing him with oil in the name of the Lord: \nJoin Destiny’s Door Global Ministries every Wednesday at 6:00 pm for corporate prayer.
URL:https://destinysdoorglobalministries.com/calendar/corporate-prayer/
LOCATION:Destiny’s Door Global Ministries Worship Assembly\, 9010 #B Liberty Road\, Randallstown\, MD\, 21133\, United States
ATTACH;FMTTYPE=image/jpeg:https://destinysdoorglobalministries.com/wp-content/uploads/2015/11/Corporate-Prayer-2.jpg
END:VEVENT
BEGIN:VEVENT
DTSTART;TZID=America/New_York:20151118T180000
DTEND;TZID=America/New_York:20151118T193000
DTSTAMP:20260423T151052
CREATED:20151113T135904Z
LAST-MODIFIED:20151113T141328Z
UID:929-1447869600-1447875000@destinysdoorglobalministries.com
SUMMARY:Inspired to Pray Together
DESCRIPTION:Again I say unto you\, That if two of you shall agree on earth as touching any thing that they shall ask\, it shall be done for them of my Father which is in heaven.  For where two or three are gathered together in my name\, there am I in the midst of them. \nIs any sick among you? let him call for the elders of the church; and let them pray over him\, anointing him with oil in the name of the Lord: \nJoin Destiny’s Door Global Ministries every Wednesday at 6:00 pm for corporate prayer. \n 
URL:https://destinysdoorglobalministries.com/calendar/corporate-prayer-intercession-delivernace-inspired-to-pray-together/
LOCATION:Destiny’s Door Global Ministries Worship Assembly\, 9010 #B Liberty Road\, Randallstown\, MD\, 21133\, United States
ATTACH;FMTTYPE=image/jpeg:https://destinysdoorglobalministries.com/wp-content/uploads/2015/11/Corporate-Prayer.jpg
END:VEVENT
BEGIN:VEVENT
DTSTART;TZID=America/New_York:20151115T083000
DTEND;TZID=America/New_York:20151115T103000
DTSTAMP:20260423T151052
CREATED:20151113T141038Z
LAST-MODIFIED:20151113T141038Z
UID:932-1447576200-1447583400@destinysdoorglobalministries.com
SUMMARY:DDGM Worship Assembly
DESCRIPTION:Lift up your heads\, O ye gates; and be ye lift up\, ye everlasting doors; and the King of glory shall come in.  Who is this King of glory? The Lord strong and mighty\, the Lord mighty in battle.  Lift up your heads\, O ye gates; even lift them up\, ye everlasting doors; and the King of glory shall come in.   Who is this King of glory? The Lord of hosts\, he is the King of glory. Selah.
URL:https://destinysdoorglobalministries.com/calendar/church-ddgm-worship-assembly/
LOCATION:Destiny’s Door Global Ministries Worship Assembly\, 9010 #B Liberty Road\, Randallstown\, MD\, 21133\, United States
ATTACH;FMTTYPE=image/jpeg:https://destinysdoorglobalministries.com/wp-content/uploads/2015/11/King-of-Glory.jpg
ORGANIZER;CN="Unnamed Organizer":MAILTO:destinysdoorgm@gmail.com
END:VEVENT
BEGIN:VEVENT
DTSTART;TZID=America/New_York:20151111T190000
DTEND;TZID=America/New_York:20151111T200000
DTSTAMP:20260423T151052
CREATED:20150819T165402Z
LAST-MODIFIED:20151113T141522Z
UID:880-1447268400-1447272000@destinysdoorglobalministries.com
SUMMARY:Hour of Empowerment
DESCRIPTION:Join Destiny’s Door Global Ministries Wednesday\, November 11\, 2015 at 7:00 pm until 8:00 pm as we seek the heartbeat of God and His divine purpose and will for our lives.  Empowerment through the Word of God\, Worship\, Prayer and Praise .  For the word of God is living and active\, sharper than any two-edged sword\, piercing to the division of soul and of spirit\, of joints and of marrow\, and discerning the thoughts and intentions of the heart. Hebrews 4:12
URL:https://destinysdoorglobalministries.com/calendar/empowerment-bible-study/
LOCATION:Destiny’s Door Global Ministries Worship Assembly\, 9010 #B Liberty Road\, Randallstown\, MD\, 21133\, United States
ATTACH;FMTTYPE=image/jpeg:https://destinysdoorglobalministries.com/wp-content/uploads/2015/08/holiness.jpg
END:VEVENT
BEGIN:VEVENT
DTSTART;TZID=America/New_York:20150919T100000
DTEND;TZID=America/New_York:20150919T130000
DTSTAMP:20260423T151052
CREATED:20150123T164455Z
LAST-MODIFIED:20150708T123406Z
UID:708-1442656800-1442667600@destinysdoorglobalministries.com
SUMMARY:Empower the Woman Within Ministries
DESCRIPTION:Spiritual healing and wellness\, deliverance and empowerment for women in the body of Christ. A safe atmosphere for spiritual care and support for women who have found themselves wounded. Come and be heard.  Release\, receive and be free to serve in the kingdom of God with a healthier sense of self for God’s glory. \n\n                \n                        \n                            Event Registration\n                            \n                        \n                        Name* Phone* Best Email* Event(s) *Wisdom & Understanding Tele ConferenceOther - Please specify in comment section Hour of EmpowermentComment\n          \n            \n            \n            \n            \n            \n            \n            \n            \n            \n        \n                        Δ
URL:https://destinysdoorglobalministries.com/calendar/prayer-woman-safeplace/
LOCATION:Destiny’s Door Global Ministries Worship Assembly\, 9010 #B Liberty Road\, Randallstown\, MD\, 21133\, United States
ATTACH;FMTTYPE=image/png:https://destinysdoorglobalministries.com/wp-content/uploads/2015/01/EWWI-ERNESTINE.png
END:VEVENT
BEGIN:VEVENT
DTSTART;TZID=America/New_York:20150909T190000
DTEND;TZID=America/New_York:20150909T200000
DTSTAMP:20260423T151052
CREATED:20150812T163342Z
LAST-MODIFIED:20151113T141539Z
UID:861-1441825200-1441828800@destinysdoorglobalministries.com
SUMMARY:Hour of Empowerment
DESCRIPTION:Join Destiny’s Door Global Ministries and Elder Lawrence Simmons\, Wednesday\, September 9\, 2015 at 7:00 pm until 8:00 pm as we seek the heartbeat of God and His divine purpose and will for our lives.  Empowerment through the Word of God\, Worship\, Prayer and Praise .  For the word of God is living and active\, sharper than any two-edged sword\, piercing to the division of soul and of spirit\, of joints and of marrow\, and discerning the thoughts and intentions of the heart. Hebrews 4:12
URL:https://destinysdoorglobalministries.com/calendar/worship-prophetic-bible-study-kingdom-agenda/
LOCATION:Destiny’s Door Global Ministries Worship Assembly\, 9010 #B Liberty Road\, Randallstown\, MD\, 21133\, United States
ATTACH;FMTTYPE=image/jpeg:https://destinysdoorglobalministries.com/wp-content/uploads/2015/08/strength-2.jpg
END:VEVENT
BEGIN:VEVENT
DTSTART;TZID=America/New_York:20150812T190000
DTEND;TZID=America/New_York:20150812T200000
DTSTAMP:20260423T151052
CREATED:20150515T112800Z
LAST-MODIFIED:20150804T155715Z
UID:691-1439406000-1439409600@destinysdoorglobalministries.com
SUMMARY:Hour of Empowerment
DESCRIPTION:Join Destiny’s Door Global Ministries and Prophet Patrick Mayo\, Wednesday August 12\, 2015 from 7:00 pm -8:00pm. As we seek the heart beat of God and His divine purpose and will for our lives.  Empowerment through the Word of God and Prayer .  For the word of God is living and active\, sharper than any two-edged sword\, piercing to the division of soul and of spirit\, of joints and of marrow\, and discerning the thoughts and intentions of the heart. Hebrews 4:12 \n\n                \n                        \n                            Event Registration\n                            \n                        \n                        Name* Phone* Best Email* Event(s) *Wisdom & Understanding Tele ConferenceOther - Please specify in comment section Hour of EmpowermentComment\n          \n            \n            \n            \n            \n            \n            \n            \n            \n            \n        \n                        Δ \n                        \n  \n  \n 
URL:https://destinysdoorglobalministries.com/calendar/bible-study-prophetic-prayer-church/
LOCATION:Destiny’s Door Global Ministries Worship Assembly\, 9010 #B Liberty Road\, Randallstown\, MD\, 21133\, United States
ATTACH;FMTTYPE=image/jpeg:https://destinysdoorglobalministries.com/wp-content/uploads/2015/05/Kingdom-agneda-1.jpg
END:VEVENT
BEGIN:VEVENT
DTSTART;TZID=America/New_York:20150802T083000
DTEND;TZID=America/New_York:20150802T103000
DTSTAMP:20260423T151052
CREATED:20150623T152516Z
LAST-MODIFIED:20151113T141643Z
UID:831-1438504200-1438511400@destinysdoorglobalministries.com
SUMMARY:Sunday Worship
DESCRIPTION:Join us August 2\, 2015 at 8:30 am for Morning Worship. \nWe believe in one God existing eternally in three persons: God the Father\, God the Son and God the Holy Spirit co-equal. Creator of all things. John 10:30; John 14:26; Philippians 2:5-7 . \nWe believe that the Lord Jesus Christ\, the only begotten Son of God\, was conceived of the Holy Spirit\, born of the Virgin Mary\, was crucified\, died\, was buried\, was resurrected\, ascended into heaven\, and is now seated at the right hand of God the Father. Matthew 1:21\, 23 Luke 1:26-33 Mark 15: 44-46 Mark 16:1-6 John 19:18 Acts 1:2-3 Ephesians 1:20 Hebrews 8:1 \nWe believe in the personal\, imminent return of our Lord and Savior Jesus Christ. Acts 1:11; 1 Thessalonians 4:13-18 Titus 2:13. \nWe believe in personal salvation from the eternal penalty of sin\, provided exclusively by the grace of God on the basis of the atoning death and resurrection of the Lord Jesus Christ\, to be received only through individual faith in His Person and redemptive work on the cross\, and to be followed with a life characterized by the empowering grace of the Holy Spirit\, giving evidence in loving service and adherence to the principles and practices of the Christian Faith as set forth in the New Testament. John 3:16-18 Romans. 3:23\, 6:23\, 10:13\, Ephesians 2:8-9\, Titus 3:4-7. \nWe believe in the Ascension Gifts\, Five Fold Leadership\, Gifts of the Spirit\, the Motivational Gifts\, and water baptism as taught and demonstrated by Jesus\, as the way for believers to identify with the death\, burial and resurrection of Jesus.   The Baptism in the Holy Spirit is a gift from God promised by the Lord Jesus Christ to all believers and is received by faith subsequent to the New Birth. Tongues is a divine\, supernatural language and means whereby the believer may commune with God.  Ephesians 4:11:11- 12\, 1Corinthians 12:4-11  Romans 12:3-8\,   Matthew 28:19; Romans 6:4; Matthew 3:13-17. \n  \n  \n 
URL:https://destinysdoorglobalministries.com/calendar/prophetic-apostolic-sunday-worship/
LOCATION:Destiny’s Door Global Ministries Worship Assembly\, 9010 #B Liberty Road\, Randallstown\, MD\, 21133\, United States
ATTACH;FMTTYPE=image/png:https://destinysdoorglobalministries.com/wp-content/uploads/2015/06/DESTINYDOOR_largeLogo.png
END:VEVENT
BEGIN:VEVENT
DTSTART;VALUE=DATE:20150218
DTEND;VALUE=DATE:20150406
DTSTAMP:20260423T151052
CREATED:20150319T145403Z
LAST-MODIFIED:20150319T152857Z
UID:785-1424217600-1428278399@destinysdoorglobalministries.com
SUMMARY:Lent
DESCRIPTION:Repentance\, Prayer & Intercession \nForty (40) days of strategic testing\, trial\, probation or judgment which ends with restoration\, revival or renewal. \nTherefore also now\, says the Lord\, turn and keep on coming to Me with all your heart\, with fasting\, with weeping\, and with mourning [until every hindrance is removed and the broken fellowship is restored]. \nRend your hearts and not your garments and return to the Lord\, your God\, for He is gracious and merciful\, slow to anger\, and abounding in loving-kindness; and He revokes His sentence of evil [when His conditions are met]. \nWho knows but what He will turn\, revoke your sentence [of evil]\, and leave a blessing behind Him [giving you the means with which to serve Him]\, even a cereal or meal offering and a drink offering for the Lord\, your God?   Joel 2:12-14
URL:https://destinysdoorglobalministries.com/calendar/lent-prayer-repent/
LOCATION:MD
ATTACH;FMTTYPE=image/jpeg:https://destinysdoorglobalministries.com/wp-content/uploads/2015/03/lENT.jpg
END:VEVENT
BEGIN:VEVENT
DTSTART;TZID=America/New_York:20150209T190000
DTEND;TZID=America/New_York:20150209T200000
DTSTAMP:20260423T151052
CREATED:20150125T232845Z
LAST-MODIFIED:20150129T232806Z
UID:722-1423508400-1423512000@destinysdoorglobalministries.com
SUMMARY:Why Prayers are Unanswered Part 2 & Breaking Word Curses
DESCRIPTION:Have you ever wondered why your prayers are unanswered or hindered?  Luke 11:10 says\,  For everyone who asks receives; the one who seeks finds; and to the one who knocks\, the door will be opened.  Join us via Tele-Conference on Monday\, February 9\, 2015 at 7:00pm(est) 6:00pm(cst) as Prophet Suzy Brothers of Suzy Brothers Ministries teaches on Why Prayers are Unanswered Part 2 & Breaking Word Curses.  To register submit your contact information. \n                \n                        \n                            \n                        \n                        Name* Phone*Best Email*\n                            \n                        Request(s)*PrayerComment*\n          \n            \n            \n            \n            \n            \n            \n            \n            \n            \n        \n                        Δ \n                        \n \n  \n  \n  \n  \n 
URL:https://destinysdoorglobalministries.com/calendar/prayers-breaking-curses/
LOCATION:Tele-Conference\, United States
ATTACH;FMTTYPE=image/jpeg:https://destinysdoorglobalministries.com/wp-content/uploads/2015/01/imagesC21CZ8K2.jpg
END:VEVENT
BEGIN:VEVENT
DTSTART;VALUE=DATE:20150104
DTEND;VALUE=DATE:20150125
DTSTAMP:20260423T151052
CREATED:20150108T142247Z
LAST-MODIFIED:20150113T072249Z
UID:689-1420329600-1422143999@destinysdoorglobalministries.com
SUMMARY:Twenty-One "21" Day Fast
DESCRIPTION:“So I turned to the Lord God and pleaded with him in prayer and petition\, in fasting.” Daniel 9:3\n“Moreover\, when you fast\, do not be like the hypocrites\, with a sad countenance. For they disfigure their faces that they may appear to men to be fasting. Assuredly\, I say to you\, they have their reward. But you\, when you fast\, anoint your head and wash your face\, so that you do not appear to men to be fasting\, but to your Father who is in the secret place; and your Father who sees in secret will reward you openly.” Matthew 6:16-18 \n 
URL:https://destinysdoorglobalministries.com/calendar/fast-21-day/
LOCATION:MD
ATTACH;FMTTYPE=image/jpeg:https://destinysdoorglobalministries.com/wp-content/uploads/2015/01/imagesCAWZZ1JF.jpg
END:VEVENT
END:VCALENDAR